BEGIN:VCALENDAR
VERSION:2.0
PRODID:-//ChamberMaster//Event Calendar 2.0//EN
METHOD:PUBLISH
X-PUBLISHED-TTL:P3D
REFRESH-INTERVAL:P3D
CALSCALE:GREGORIAN
BEGIN:VEVENT
DTSTART:20230607T130000Z
DTEND:20230607T140000Z
X-MICROSOFT-CDO-ALLDAYEVENT:FALSE
SUMMARY:Maximizing your Membership - Chamber 101
DESCRIPTION:Members of the Vermillion Area Chamber & Development Company may not always know what their membership gets them.\n\nWe are hosting a "Maximizing your Membership" event on Wednesday\, June 7th from 8 to 9 a.m. at 2 E. Main St. in the 1st floor board room.\n\nCome to 'Chamber School' and learn about how you can efficiently utilize your member benefits. New and current members are more than welcome.
X-ALT-DESC;FMTTYPE=text/html:<div class="xdj266r x11i5rnm xat24cr x1mh8g0r x1vvkbs" style="margin: 0px\; word-wrap: break-word\; font-family: system-ui\, -apple-system\, BlinkMacSystemFont\, &quot\;.SFNSText-Regular&quot\;\, sans-serif\; caret-color: rgb(5\, 5\, 5)\; color: rgb(5\, 5\, 5)\; font-size: 15px\;">Members of the Vermillion Area Chamber &amp\; Development Company may not always know what their membership gets them.</div>\n\n<div class="x11i5rnm xat24cr x1mh8g0r x1vvkbs xtlvy1s" style="margin: 0.5em 0px 0px\; word-wrap: break-word\; font-family: system-ui\, -apple-system\, BlinkMacSystemFont\, &quot\;.SFNSText-Regular&quot\;\, sans-serif\; caret-color: rgb(5\, 5\, 5)\; color: rgb(5\, 5\, 5)\; font-size: 15px\;">We are hosting a &quot\;Maximizing your Membership&quot\; event on Wednesday\, June 7th from 8 to 9 a.m. at 2 E. Main St. in the 1st floor board room.</div>\n\n<div class="x11i5rnm xat24cr x1mh8g0r x1vvkbs xtlvy1s" style="margin: 0.5em 0px 0px\; word-wrap: break-word\; font-family: system-ui\, -apple-system\, BlinkMacSystemFont\, &quot\;.SFNSText-Regular&quot\;\, sans-serif\; caret-color: rgb(5\, 5\, 5)\; color: rgb(5\, 5\, 5)\; font-size: 15px\;">Come to &#39\;Chamber School&#39\; and learn about how you can efficiently utilize your member benefits. New and current members are more than welcome.</div>\n
LOCATION:2 E. Main St. - 1st floor board room Vermillion\, SD 57069
UID:e.2277.25580
SEQUENCE:3
DTSTAMP:20260425T192507Z
URL:https://chamber.livevermillion.com/events/details/maximizing-your-membership-chamber-101-25580
END:VEVENT

END:VCALENDAR
