BEGIN:VCALENDAR
VERSION:2.0
PRODID:-//ChamberMaster//Event Calendar 2.0//EN
METHOD:PUBLISH
X-PUBLISHED-TTL:P3D
REFRESH-INTERVAL:P3D
CALSCALE:GREGORIAN
BEGIN:VEVENT
DTSTART:20240809T230000Z
DTEND:20240810T000000Z
X-MICROSOFT-CDO-ALLDAYEVENT:FALSE
SUMMARY:Mission: Art/Venture
DESCRIPTION:Join us on August 9th at 6pm for the special exhibit Mission: Art/Venture at the Coyote Art Gallery to commemorate our 50th annual Summer Reading Program. This exhibit features children's artwork completed through missions on READSquared. For more information on what art work is being accepted check out our website at bit.ly/VPLadventure. To submit your artwork register here: bit.ly/VPLform
X-ALT-DESC;FMTTYPE=text/html:Join us on August 9th at 6pm for the special exhibit Mission: Art/Venture at the Coyote Art Gallery to commemorate our 50th annual Summer Reading Program. This exhibit features children&#39\;s artwork completed through missions on READSquared. For more information on what art work is being accepted check out our website at bit.ly/VPLadventure. To submit your artwork register here: bit.ly/VPLform
LOCATION:Coyote Art Gallery 12 East Main Street
UID:e.2277.27429
SEQUENCE:3
DTSTAMP:20260426T012522Z
URL:https://chamber.livevermillion.com/events/details/mission-art-venture-27429
END:VEVENT

END:VCALENDAR
