BEGIN:VCALENDAR
VERSION:2.0
PRODID:-//ChamberMaster//Event Calendar 2.0//EN
METHOD:PUBLISH
X-PUBLISHED-TTL:P3D
REFRESH-INTERVAL:P3D
CALSCALE:GREGORIAN
BEGIN:VEVENT
DTSTART:20220815T230000Z
DTEND:20220816T000000Z
X-MICROSOFT-CDO-ALLDAYEVENT:FALSE
SUMMARY:Money Smarts: Going Back to School
DESCRIPTION:Learn how to take control of your money\n\nGet what you want using your spending plan\n\nPrepare for school expenses and the return of student loan payments
X-ALT-DESC;FMTTYPE=text/html:Learn how to take control of your money<br />\nGet what you want using your spending plan<br />\nPrepare for school expenses and the return of student loan payments&nbsp\;&nbsp\;&nbsp\;&nbsp\;
LOCATION:Register here: https://lsssd.zoom.us/meeting/register/tZ0kc-6qqD4uGNLB7hA2q7U-LFjl0Gnx2o7o
UID:e.2277.24527
SEQUENCE:3
DTSTAMP:20260425T001948Z
URL:https://chamber.livevermillion.com/events/details/money-smarts-going-back-to-school-24527
END:VEVENT

END:VCALENDAR
