BEGIN:VCALENDAR
VERSION:2.0
PRODID:-//ChamberMaster//Event Calendar 2.0//EN
METHOD:PUBLISH
X-PUBLISHED-TTL:P3D
REFRESH-INTERVAL:P3D
CALSCALE:GREGORIAN
BEGIN:VEVENT
DTSTART:20221122T020000Z
DTEND:20221122T030000Z
X-MICROSOFT-CDO-ALLDAYEVENT:FALSE
SUMMARY:Money Smarts: Preparing Your Finances for the Holidays
DESCRIPTION:Money Smarts: Preparing Your Finances for the Holidays\n\nNovember 21st 8-9 p.m. CDT\n\nFrom renting or buying a place to live\, to paying off credit card bills or making a simple trip to the neighborhood store\, we make important personal decisions about money every day. Find out the latest tips and tricks to become a smarter spender and saver!\n\n \n\n	Learn how to take control of your money \n	Get what you want using your spending plan\n	Learn tips & tools to prepare for holiday spending & start the new year out right
X-ALT-DESC;FMTTYPE=text/html:<span style="font-size:18px\;"><strong><span style="font-family:futura pt book\;">Money Smarts: Preparing Your Finances for the Holidays</span></strong><br />\n<span style="font-family:futura pt book\;">November 21st 8-9 p.m. CDT</span><br />\n<em><span style="font-family:futura pt book\;">From renting or buying a place to live\, to paying off credit card bills or making a simple trip to the neighborhood store\, we make important personal decisions about money every day. Find out the latest tips and tricks to become a smarter spender and saver!</span></em><br />\n&nbsp\;</span>\n<ul>\n	<li style="font-size:11pt\;font-family:Calibri\, sans-serif\;color:rgb(0\, 0\, 0)\;"><span style="font-size:18px\;"><span style="font-family:futura pt book\;">Learn how to take control of your money&nbsp\;</span></span></li>\n	<li style="font-size:11pt\;font-family:Calibri\, sans-serif\;color:rgb(0\, 0\, 0)\;"><span style="font-size:18px\;"><span style="font-family:futura pt book\;">Get what you want using your spending plan</span></span></li>\n	<li style="font-size:11pt\;font-family:Calibri\, sans-serif\;color:rgb(0\, 0\, 0)\;"><span style="font-size:18px\;"><span style="font-family:futura pt book\;">Learn tips &amp\; tools to prepare for holiday spending &amp\; start the new year out right</span></span></li>\n</ul>\n
LOCATION:https://lsssd.zoom.us/meeting/register/tZcvceCorzktGNCvKlaBQ6Ut6H4RUK7afKx6
UID:e.2277.24623
SEQUENCE:3
DTSTAMP:20260426T012402Z
URL:https://chamber.livevermillion.com/events/details/money-smarts-preparing-your-finances-for-the-holidays-24623
END:VEVENT

END:VCALENDAR
