BEGIN:VCALENDAR
VERSION:2.0
PRODID:-//ChamberMaster//Event Calendar 2.0//EN
METHOD:PUBLISH
X-PUBLISHED-TTL:P3D
REFRESH-INTERVAL:P3D
CALSCALE:GREGORIAN
BEGIN:VEVENT
DTSTART;VALUE=DATE:20240524
DTEND;VALUE=DATE:20240525
TRANSP:TRANSPARENT
X-MICROSOFT-CDO-ALLDAYEVENT:TRUE
SUMMARY:Parking Lot Party! Live Music!
DESCRIPTION:Meckling! Toby's Lounge is hosting the kickoff to summer on Friday\, May 24th\, Memorial Day Weekend!\n\nLive Music with the Nolan Clark Band!
X-ALT-DESC;FMTTYPE=text/html:Meckling! Toby&#39\;s Lounge is hosting the kickoff to summer on Friday\, May 24th\, Memorial Day Weekend!<br />\nLive Music with the Nolan Clark Band!
LOCATION:Meckling\, SD. Between Yankton and Vermillion
UID:e.2277.27333
SEQUENCE:3
DTSTAMP:20260425T125502Z
URL:https://chamber.livevermillion.com/events/details/parking-lot-party-live-music-27333
END:VEVENT

END:VCALENDAR
