BEGIN:VCALENDAR
VERSION:2.0
PRODID:-//ChamberMaster//Event Calendar 2.0//EN
METHOD:PUBLISH
X-PUBLISHED-TTL:P3D
REFRESH-INTERVAL:P3D
CALSCALE:GREGORIAN
BEGIN:VEVENT
DTSTART:20221001T190000Z
DTEND:20221001T220000Z
X-MICROSOFT-CDO-ALLDAYEVENT:FALSE
SUMMARY:Personal Gun Safety Class
DESCRIPTION:Pyr Protection presents a defensive shooting course at the Vermillion Pistol Club! Priority seating is given to club members. Class covers:\n\n	Safer and proper handling of defensive pistol\n	Drawing from concealment\n	Loading and reloading under stress\n	Malfunction and clearance drills\n	And more!\n\nStudents will need:\n\n\n	A modern centerfire pistol or double action revolver\n	Belt mounted\, pocket\, ankle\, or IWB holster (no cross draw\, please)\n	At least two (2) magazines for reloading drills (2 speed loaders or 2 speed strips\, 1 dump pouch for revolvers)\n	Appropriate eye and ear protection\n\n\n\nCheck out our Facebook page for videos from previous classes.
X-ALT-DESC;FMTTYPE=text/html:Pyr Protection presents a defensive shooting course at the Vermillion Pistol Club! Priority seating is given to club members. Class covers:\n<ul>\n	<li>Safer and proper handling of defensive pistol</li>\n	<li>Drawing from concealment</li>\n	<li>Loading and reloading under stress</li>\n	<li>Malfunction and clearance drills</li>\n	<li>And more!</li>\n</ul>\nStudents will need:\n\n<ul>\n	<li>A modern centerfire pistol or double action revolver</li>\n	<li>Belt mounted\, pocket\, ankle\, or IWB holster (no cross draw\, please)</li>\n	<li>At least two (2) magazines for reloading drills (2 speed loaders or 2 speed strips\, 1 dump pouch for revolvers)</li>\n	<li>Appropriate eye and ear protection</li>\n</ul>\n<br />\nCheck out our <a href="https://www.facebook.com/profile.php?id=100057270136896">Facebook page</a> for videos from previous classes.
LOCATION:Vermillion Pistol Club @ the Clay County Park
UID:e.2277.24588
SEQUENCE:3
DTSTAMP:20260425T040454Z
URL:https://chamber.livevermillion.com/events/details/personal-gun-safety-class-24588
END:VEVENT

END:VCALENDAR
