BEGIN:VCALENDAR
VERSION:2.0
PRODID:-//ChamberMaster//Event Calendar 2.0//EN
METHOD:PUBLISH
X-PUBLISHED-TTL:P3D
REFRESH-INTERVAL:P3D
CALSCALE:GREGORIAN
BEGIN:VEVENT
DTSTART:20230615T203000Z
DTEND:20230615T223000Z
X-MICROSOFT-CDO-ALLDAYEVENT:FALSE
SUMMARY:Polaris Hiring Event
DESCRIPTION:Polaris is hosting an onsite Hiring Event June 15th & 16th (times listed below). Stop by for a tour and interview if you or someone you know is looking for work!\n\nIt's a great way to meet our team and learn about the opportunity to impact customers as a Warehouse Associate.\n\nhttps://forms.office.com/r/WR6ze5GWef
X-ALT-DESC;FMTTYPE=text/html:<div dir="auto" style="font-family: &quot\;Segoe UI Historic&quot\;\, &quot\;Segoe UI&quot\;\, Helvetica\, Arial\, sans-serif\; color: rgb(5\, 5\, 5)\; font-size: 15px\; white-space-collapse: preserve\;"><span style="color: rgb(5\, 5\, 5)\; font-family: &quot\;Segoe UI Historic&quot\;\, &quot\;Segoe UI&quot\;\, Helvetica\, Arial\, sans-serif\; font-size: 15px\; white-space-collapse: preserve\;">Polaris is </span>hosting an onsite Hiring Event June 15th &amp\; 16th (times listed below). Stop by for a tour and interview if you or someone you know is looking for work!</div>\n\n<div dir="auto" style="font-family: &quot\;Segoe UI Historic&quot\;\, &quot\;Segoe UI&quot\;\, Helvetica\, Arial\, sans-serif\; color: rgb(5\, 5\, 5)\; font-size: 15px\; white-space-collapse: preserve\;">It&#39\;s a great way to meet our team and learn about the opportunity to impact customers as a Warehouse Associate.</div>\n\n<div dir="auto" style="font-family: &quot\;Segoe UI Historic&quot\;\, &quot\;Segoe UI&quot\;\, Helvetica\, Arial\, sans-serif\; color: rgb(5\, 5\, 5)\; font-size: 15px\; white-space-collapse: preserve\;"><span style="font-family: inherit\;"><a class="x1i10hfl xjbqb8w x6umtig x1b1mbwd xaqea5y xav7gou x9f619 x1ypdohk xt0psk2 xe8uvvx xdj266r x11i5rnm xat24cr x1mh8g0r xexx8yu x4uap5 x18d9i69 xkhd6sd x16tdsg8 x1hl2dhg xggy1nq x1a2a7pz xt0b8zv x1fey0fg" href="https://forms.office.com/r/WR6ze5GWef?fbclid=IwAR1BCkNN4pgl4efDNb4mTlJGYaYPRNlcIKBkTrWKNBQ5xiYFB0ZKPGa33Q4" rel="nofollow noreferrer" role="link" style="color: var(--blue-link)\; cursor: pointer\; text-decoration-line: none\; border-width: 0px\; border-style: initial\; border-color: initial\; outline: none\; list-style: none\; margin: 0px\; text-align: inherit\; padding: 0px\; -webkit-tap-highlight-color: transparent\; box-sizing: border-box\; touch-action: manipulation\; background-color: transparent\; display: inline\; font-family: inherit\;" tabindex="0" target="_blank">https://forms.office.com/r/WR6ze5GWef</a> </span></div>\n
LOCATION:997 Polaris Parkway\, Vermillion\, SD\, United States\, South Dakota
UID:e.2277.25608
SEQUENCE:3
DTSTAMP:20260425T192602Z
URL:https://chamber.livevermillion.com/events/details/polaris-hiring-event-25608
END:VEVENT

END:VCALENDAR
