BEGIN:VCALENDAR
VERSION:2.0
PRODID:-//ChamberMaster//Event Calendar 2.0//EN
METHOD:PUBLISH
X-PUBLISHED-TTL:P3D
REFRESH-INTERVAL:P3D
CALSCALE:GREGORIAN
BEGIN:VEVENT
DTSTART:20230623T220000Z
DTEND:20230624T000000Z
X-MICROSOFT-CDO-ALLDAYEVENT:FALSE
SUMMARY:Praise & Worship
DESCRIPTION:Praise & Worship\n\n			Join us on June 23rd at 7pm for Worship Outside with Pastor Brent Parker\, lead pastor at The Gate\, who is an amazing singer\, songwriter\, and musician. Let us give thanks and praise for God's goodness. We will have food\, games for the kids\, and an opportunity for prayer and to tour the church building from 5 to 7. Bring your favorite lawn chair. 1330 E. Main Street\, Vermillion.
X-ALT-DESC;FMTTYPE=text/html:<table border="0" cellpadding="0" cellspacing="0" style="width:100.0%\;border-collapse:collapse\;" width="100%">\n	<tbody>\n		<tr>\n			<td style="padding:9.0pt 12.0pt 9.0pt 12.0pt\;vertical-align:top\;"><strong><span style="color:black\;"><span style="font-family:helvetica\,sans-serif\;"><span style="font-size:23.5pt\;">Praise &amp\; Worship</span></span></span></strong><br />\n			Join us on <strong><span style="font-family:helvetica\,sans-serif\;">June 23rd at 7pm</span></strong> for <strong><span style="font-family:helvetica\,sans-serif\;">Worship Outside</span></strong> with <strong><span style="font-family:helvetica\,sans-serif\;">Pastor Brent Parker</span></strong>\, lead pastor at The Gate\, who is an amazing singer\, songwriter\, and musician. Let us give thanks and praise for God&rsquo\;s goodness. We will have food\, games for the kids\, and an opportunity for prayer and to tour the church building from 5 to 7. Bring your favorite lawn chair. <strong><span style="font-family:helvetica\,sans-serif\;">1330 E. Main Street\, Vermillion</span></strong>. &nbsp\;</td>\n		</tr>\n	</tbody>\n</table>\n
LOCATION:Pulse of Life 1330 E Main Street\, Vermillion\, SD 57069
UID:e.2277.25759
SEQUENCE:3
DTSTAMP:20260425T192439Z
URL:https://chamber.livevermillion.com/events/details/praise-worship-25759
END:VEVENT

END:VCALENDAR
