BEGIN:VCALENDAR
VERSION:2.0
PRODID:-//ChamberMaster//Event Calendar 2.0//EN
METHOD:PUBLISH
X-PUBLISHED-TTL:P3D
REFRESH-INTERVAL:P3D
CALSCALE:GREGORIAN
BEGIN:VEVENT
DTSTART:20230615T163000Z
DTEND:20230615T183000Z
X-MICROSOFT-CDO-ALLDAYEVENT:FALSE
SUMMARY:RED Talks - Hiring and Retaining Healthy Employees in a Difficult Labor Market
DESCRIPTION:The Vermillion Area Chamber & Development Company invites you to our second RED Talk of 2023. Darrin Ausman and Emma Ladwig from Athletico Physical Therapy will present on Thursday\, June 15th\, 2023 at Dakota Center. The discussion will be covering 'Hiring and Retaining Healthy Employees in a Difficult Labor Market.  '\n\n\n\nThank you to our sponsors: Walmart\, CorTrust Bank\, First Dakota National Bank\, First Bank & Trust and Dakota Realty & Property Management. \n\n\n\nProgram Details:\n\n11:30 AM - Lunch & Networking\n\n11:55 AM - Welcome & Speaker Intro\n\n12:00 PM - Presentation \n\n12:35 PM - Q&A\n\n12:50 PM - Closing Remarks\n\n1:00 PM - Networking Begins\n\n1:30 PM - Networking Concludes
X-ALT-DESC;FMTTYPE=text/html:<span style="color:#000000\;"><span style="font-size:18px\;"><span style="font-family:times new roman\;">The Vermillion Area Chamber &amp\; Development Company invites you to our second RED Talk of 2023. Darrin Ausman and Emma Ladwig from Athletico Physical Therapy will present on&nbsp\;Thursday\, June 15th\, 2023 at Dakota Center. The discussion will be covering &#39\;Hiring and Retaining Healthy Employees in a Difficult Labor Market. &nbsp\;&#39\;</span></span></span><br />\n<br />\n<span style="color:#000000\;"><span style="font-size:18px\;"><span style="font-family:times new roman\;">Thank you to our sponsors: Walmart\, CorTrust Bank\, First Dakota National Bank\, First Bank &amp\; Trust and Dakota Realty &amp\; Property Management.&nbsp\;<br />\n<br />\n<strong>Program Details:</strong><br />\n11:30 AM - Lunch &amp\; Networking<br style="box-sizing: border-box\; font-family: arial\; font-size: 15px\;" />\n11:55 AM - Welcome &amp\; Speaker Intro<br style="box-sizing: border-box\; font-family: arial\; font-size: 15px\;" />\n12:00 PM - Presentation&nbsp\;<br />\n12:35 PM - Q&amp\;A<br style="box-sizing: border-box\; font-family: arial\; font-size: 15px\;" />\n12:50 PM - Closing Remarks<br style="box-sizing: border-box\; font-family: arial\; font-size: 15px\;" />\n1:00 PM - Networking Begins<br />\n1:30 PM - Networking Concludes</span></span></span><br />\n<br />\n&nbsp\;
LOCATION:Dakota Center 912 N. Dakota St. Vermillion\, SD 57069
UID:e.2277.24994
SEQUENCE:3
DTSTAMP:20260425T212039Z
URL:https://chamber.livevermillion.com/events/details/red-talks-hiring-and-retaining-healthy-employees-in-a-difficult-labor-market-24994
END:VEVENT

END:VCALENDAR
