BEGIN:VCALENDAR
VERSION:2.0
PRODID:-//ChamberMaster//Event Calendar 2.0//EN
METHOD:PUBLISH
X-PUBLISHED-TTL:P3D
REFRESH-INTERVAL:P3D
CALSCALE:GREGORIAN
BEGIN:VEVENT
DTSTART:20230302T180000Z
DTEND:20230302T190000Z
X-MICROSOFT-CDO-ALLDAYEVENT:FALSE
SUMMARY:RED Talks - Strategic Workforce Efforts
DESCRIPTION:Vermillion Area Chamber & Development Company invites you to our first RED Talk of 2023. We all know workforce has been a National issue. Businesses need qualified workforce to thrive. Thank you to our sponsor\; CorTrust Bank\, First Dakota Bank\, First Bank & Trust and Walmart. \n\n\n\nLunch will be plated\; Italian beef sandwiches topped with pepperoncini's served with dipping sauce and a delicious Toscana\, a creamy potato soup with sausage and kale. Please communicate if you have any dietary needs. \n\n\n\nJoin us as we discuss Strategic Workforce on Thursday\, March 2nd with Kristal McKee with the Department of Labor at Valiant Vineyard Winery from 12:00pm - 1:00pm. \n\n\n\nProgram Details\;\n\n11:30 AM - Lunch & Networking\n\n11:55 AM - Welcome & Speaker Intro\n\n12:00 PM - Department of Labor\, Kristal McKee and Jim Peterson as moderator\n\n12:35 PM - Q&A\n\n12:50 PM - Closing Remarks\n\n1:00 PM - Event Concludes \n\n1:30 PM - Networking \n\n\n\nFacebook event\n\n\n\nKristal McKee's Bio: \n\nWith 25 years and counting\, Kristal McKee has dedicated her entire career helping others succeed.  As the Vermillion Job Service manager\, she is able to do just that.\n\n \n\nVermillion Job Service is not only here to serve and support individuals with their workforce needs\, but businesses as well. Kristal is passionate and energized in sharing information on agency programs to help grow your workforce and continue on the path of success!   \n\n \n\nKristal loves spending time with her husband and two boys on their farm near Akron\, Iowa.
X-ALT-DESC;FMTTYPE=text/html:<span style="color:#000000\;"><span style="font-size:18px\;"><span style="font-family:times new roman\;">Vermillion Area Chamber &amp\; Development Company invites you to our first RED Talk of 2023. We all know workforce has been a National issue. Businesses need qualified workforce to thrive. Thank you to our sponsor\; CorTrust Bank\, First Dakota Bank\, First Bank &amp\; Trust and Walmart.&nbsp\;<br />\n<br />\nLunch will be plated\; Italian beef sandwiches topped with </span></span></span><span style="font-size: 13.5pt\; font-family: &quot\;Times New Roman&quot\;\, serif\; color: black\; background-image: initial\; background-position: initial\; background-size: initial\; background-repeat: initial\; background-attachment: initial\; background-origin: initial\; background-clip: initial\;">pepperoncini&rsquo\;s</span><span style="color:#000000\;"><span style="font-size:18px\;"><span style="font-family:times new roman\;">&nbsp\;served with dipping sauce and a delicious Toscana\, a creamy potato soup with sausage and kale. Please communicate if you have any dietary needs.&nbsp\;<br />\n<br />\nJoin us as we discuss Strategic Workforce on Thursday\, March 2nd with Kristal McKee with the Department of Labor at Valiant Vineyard Winery from 12:00pm - 1:00pm.&nbsp\;<br />\n<br />\nProgram Details\;<br />\n11:30 AM - Lunch &amp\; Networking<br style="box-sizing: border-box\; font-family: arial\; font-size: 15px\;" />\n11:55 AM - Welcome &amp\; Speaker Intro<br style="box-sizing: border-box\; font-family: arial\; font-size: 15px\;" />\n12:00 PM - Department of Labor\, Kristal McKee and Jim Peterson as moderator<br />\n12:35 PM - Q&amp\;A<br style="box-sizing: border-box\; font-family: arial\; font-size: 15px\;" />\n12:50 PM - Closing Remarks<br style="box-sizing: border-box\; font-family: arial\; font-size: 15px\;" />\n1:00 PM - Event Concludes&nbsp\;<br />\n1:30 PM - Networking&nbsp\;<br />\n<br />\n<strong><a href="https://www.facebook.com/events/502522142061123">Facebook event</a></strong></span></span></span><br />\n<br />\n<span style="color:#000000\;"><span style="font-size:18px\;"><span style="font-family:times new roman\;"><strong>Kristal McKee&#39\;s Bio:&nbsp\;</strong><br />\nWith 25 years and counting\, Kristal McKee has dedicated her entire career helping others succeed.&nbsp\; As the Vermillion Job Service manager\, she is able to do just that.<br />\n&nbsp\;<br />\nVermillion Job Service is not only here to serve and support individuals with their workforce needs\, but businesses as well. Kristal is passionate and energized in sharing information on agency programs to help grow your workforce and continue on the path of success!&nbsp\;&nbsp\;&nbsp\;<br />\n&nbsp\;<br />\nKristal loves spending time with her husband and two boys on their farm near Akron\, Iowa.&nbsp\;</span></span></span>
LOCATION:Valiant Vineyard Winery 1500 W Main Street\, Vermillion\, SD 57069 https://valiantvineyards.us/
UID:e.2277.24899
SEQUENCE:3
DTSTAMP:20260425T135142Z
URL:https://chamber.livevermillion.com/events/details/red-talks-strategic-workforce-efforts-24899
END:VEVENT

END:VCALENDAR
