BEGIN:VCALENDAR
VERSION:2.0
PRODID:-//ChamberMaster//Event Calendar 2.0//EN
METHOD:PUBLISH
X-PUBLISHED-TTL:P3D
REFRESH-INTERVAL:P3D
CALSCALE:GREGORIAN
BEGIN:VEVENT
DTSTART:20250117T170000Z
DTEND:20250117T180000Z
X-MICROSOFT-CDO-ALLDAYEVENT:FALSE
SUMMARY:Sanford Equip+ Ribbon Cutting
DESCRIPTION:Join the VCDC in celebrating a ribbon cutting ceremony for Sanford Equip+. Enjoy refreshments and an open house of their newly renovated location.\n\n\n\nAt Sanford Health Equip\, we empower you to live as independently and safely as possible. Visit one of our locations and our experienced team will match you to the best products and services for your unique needs. We're here to help.
X-ALT-DESC;FMTTYPE=text/html:<span style="font-size:14px\;"><span style="font-family:arial\;">Join the VCDC in celebrating a ribbon cutting ceremony for Sanford Equip+. Enjoy refreshments and an open house of their newly renovated location.<br />\n<br />\n<span style="color: rgb(64\, 64\, 64)\;">At Sanford Health Equip\, we empower you to live as independently and safely as possible. Visit one of our locations and our experienced team will match you to the best products and services for your unique needs. We&rsquo\;re here to help.</span></span></span>
LOCATION:Sanford Equip+ 900 E Cherry St
UID:e.2277.27812
SEQUENCE:3
DTSTAMP:20260426T000720Z
URL:https://chamber.livevermillion.com/events/details/sanford-equip-ribbon-cutting-27812
END:VEVENT

END:VCALENDAR
