BEGIN:VCALENDAR
VERSION:2.0
PRODID:-//ChamberMaster//Event Calendar 2.0//EN
METHOD:PUBLISH
X-PUBLISHED-TTL:P3D
REFRESH-INTERVAL:P3D
CALSCALE:GREGORIAN
BEGIN:VEVENT
DTSTART:20250315T173000Z
DTEND:20250315T193000Z
X-MICROSOFT-CDO-ALLDAYEVENT:FALSE
SUMMARY:Seed Starting: For Plant Lovers & Gardening Enthusiasts
DESCRIPTION:Seed starting workshop for plant lovers and gardening enthusiasts. Learn about starting seeds indoors vs outdoors\, the importance of soil\, light\, oxygen\, and water\, learn about stratification that many Native plants need. Bring home your own produce to grow!
X-ALT-DESC;FMTTYPE=text/html:<span style="font-size:14px\;"><span style="font-family:arial\;">Seed starting workshop for plant lovers and gardening enthusiasts.&nbsp\;<span style="color: rgb(8\, 8\, 9)\;">Learn about starting seeds indoors vs outdoors\, the importance of soil\, light\, oxygen\, and water\, learn about stratification that many Native plants need. Bring home your own produce to grow!</span></span></span>
LOCATION:Hocoka Indigenous Marketplace 11 Elm Street Vermillion\, SD 57069
UID:e.2277.27853
SEQUENCE:3
DTSTAMP:20260426T031305Z
URL:https://chamber.livevermillion.com/events/details/seed-starting-for-plant-lovers-gardening-enthusiasts-27853
END:VEVENT

END:VCALENDAR
