BEGIN:VCALENDAR
VERSION:2.0
PRODID:-//ChamberMaster//Event Calendar 2.0//EN
METHOD:PUBLISH
X-PUBLISHED-TTL:P3D
REFRESH-INTERVAL:P3D
CALSCALE:GREGORIAN
BEGIN:VEVENT
DTSTART:20270309T220000Z
DTEND:20270309T230000Z
X-MICROSOFT-CDO-ALLDAYEVENT:FALSE
SUMMARY:Small Town Summit
DESCRIPTION:The VCDC is excited to invite you to an upcoming event designed to connect small community leaders with valuable resources that can help fuel community development and growth. The VCDC is here to support you every step of the way! Come for a small presentation\, hear from speakers\, and enjoy a social hour to follow.\n\nPresentation:\n\n\n	Exposing/Introducing Resources: Learn about the variety of tools and opportunities available to help you thrive and lead effectively.\n\n	\n		Certifications & Development Coaching to enhance your leadership skills and community impact.\n		Grants\, Loans\, & Funding Opportunities to help secure the financial backing you need to grow your project
X-ALT-DESC;FMTTYPE=text/html:<p><span style="font-size:16px\;"><span style="font-family:arial\;">The VCDC is excited to invite you to an upcoming event designed to connect small community leaders with valuable resources that can help fuel community development and growth. The <strong>VCDC</strong> is here to support you every step of the way! Come for a small presentation\, hear from speakers\, and enjoy a social hour to follow.</span></span></p>\n\n<p><span style="font-size:16px\;"><span style="font-family:arial\;"><strong>Presentation:</strong></span></span></p>\n\n<ul>\n	<li><span style="font-size:16px\;"><span style="font-family:arial\;"><strong>Exposing/Introducing Resources:</strong> Learn about the variety of tools and opportunities available to help you thrive and lead effectively.</span></span>\n\n	<ul>\n		<li><span style="font-size:16px\;"><span style="font-family:arial\;"><strong>Certifications &amp\; Development Coaching</strong> to enhance your leadership skills and community impact.</span></span></li>\n		<li><span style="font-size:16px\;"><span style="font-family:arial\;"><strong>Grants\, Loans\, &amp\; Funding Opportunities</strong> to help secure the financial backing you need to grow your project</span></span></li>\n	</ul>\n	</li>\n</ul>\n
LOCATION:
UID:e.2277.28521
SEQUENCE:3
DTSTAMP:20260425T145758Z
URL:https://chamber.livevermillion.com/events/details/small-town-summit-28521
END:VEVENT

END:VCALENDAR
