BEGIN:VCALENDAR
VERSION:2.0
PRODID:-//ChamberMaster//Event Calendar 2.0//EN
METHOD:PUBLISH
X-PUBLISHED-TTL:P3D
REFRESH-INTERVAL:P3D
CALSCALE:GREGORIAN
BEGIN:VEVENT
DTSTART:20220304T190000Z
DTEND:20220304T220000Z
X-MICROSOFT-CDO-ALLDAYEVENT:FALSE
SUMMARY:Speech-Language & Hearing Clinic Ribbon Cutting & Open House
DESCRIPTION:The University of South Dakota Department of Communication Sciences and Disorders along with the VCDC are hosting a ribbon cutting and open house for its new Speech-Language & Hearing Clinic in the McKusick Technology Center.
X-ALT-DESC;FMTTYPE=text/html:The University of South Dakota Department of Communication Sciences and Disorders along with the VCDC are hosting a ribbon cutting and open house for its new Speech-Language &amp\; Hearing Clinic in the McKusick Technology Center.&nbsp\;
LOCATION:University of South Dakota McKusick Technology Center On the southeast part of campus
UID:e.2277.24386
SEQUENCE:3
DTSTAMP:20260424T175246Z
URL:https://chamber.livevermillion.com/events/details/speech-language-hearing-clinic-ribbon-cutting-open-house-24386
END:VEVENT

END:VCALENDAR
