BEGIN:VCALENDAR
VERSION:2.0
PRODID:-//ChamberMaster//Event Calendar 2.0//EN
METHOD:PUBLISH
X-PUBLISHED-TTL:P3D
REFRESH-INTERVAL:P3D
CALSCALE:GREGORIAN
BEGIN:VEVENT
DTSTART:20250302T210000Z
DTEND:20250302T230000Z
X-MICROSOFT-CDO-ALLDAYEVENT:FALSE
SUMMARY:Spring Choral Showcase
DESCRIPTION:The concert features the Symphonic Choir\, the Collegium Musicum\, Vocal Jazz Choir & the Chamber singers.\n\n\n\nThe Choirs will perform music by master composers like Whitacre\, as well as modern repertoire\, spirituals and folk songs.\n\n\n\nWe hope to see you there!
X-ALT-DESC;FMTTYPE=text/html:The concert features the Symphonic Choir\, the Collegium Musicum\, Vocal Jazz Choir &amp\; the Chamber singers.<br />\n<br />\nThe Choirs will perform music by master composers like Whitacre\, as well as modern repertoire\, spirituals and folk songs.<br />\n<br />\nWe hope to see you there!
LOCATION:Aalfs Auditorium in Slagle Hall
UID:e.2277.27868
SEQUENCE:3
DTSTAMP:20260426T025550Z
URL:https://chamber.livevermillion.com/events/details/spring-choral-showcase-27868
END:VEVENT

END:VCALENDAR
