BEGIN:VCALENDAR
VERSION:2.0
PRODID:-//ChamberMaster//Event Calendar 2.0//EN
METHOD:PUBLISH
X-PUBLISHED-TTL:P3D
REFRESH-INTERVAL:P3D
CALSCALE:GREGORIAN
BEGIN:VEVENT
DTSTART;VALUE=DATE:20230303
DTEND;VALUE=DATE:20230307
TRANSP:TRANSPARENT
X-MICROSOFT-CDO-ALLDAYEVENT:TRUE
SUMMARY:Summit League Tournament
DESCRIPTION:
X-ALT-DESC;FMTTYPE=text/html:
LOCATION:Denny Sanford PREMIER Center\, Sioux Falls\, SD
UID:e.2277.24807
SEQUENCE:3
DTSTAMP:20260425T135238Z
URL:https://chamber.livevermillion.com/events/details/summit-league-tournament-24807
END:VEVENT

END:VCALENDAR
