BEGIN:VCALENDAR
VERSION:2.0
PRODID:-//ChamberMaster//Event Calendar 2.0//EN
METHOD:PUBLISH
X-PUBLISHED-TTL:P3D
REFRESH-INTERVAL:P3D
CALSCALE:GREGORIAN
BEGIN:VEVENT
DTSTART:20230309T190000Z
DTEND:20230309T220000Z
X-MICROSOFT-CDO-ALLDAYEVENT:FALSE
SUMMARY:The Hurdle Life Coach with Terry
DESCRIPTION:The mission of The Hurdle Life Coach Foundation is to provide education\, motivation\, and inspiration to life-long learners of all ages and community members in all stages of their lives. The vision is a world where every person is seen\, supported and empowered. Our goal is to equip individuals\, families\, organizations and companies to transition from unknowing to awareness to positive contributor in their community and families.\n\n\n\n\nAbout Terry Liggins:\n\n\n\nTerry Liggins\n\n\n\n\n\nCEO\, TLC SERVICES\n\n\n\n\n\nAdvocate for special populations\, at-risk youth\, adults in reentry\, people in recovery and young professionals. Believes leadership begins with role modeling and recognizes the sphere of influence every person possesses to be force for good. His Faith in God and people fuels his desire to be a helping hand in a world full of individuals\, families and communities in need.
X-ALT-DESC;FMTTYPE=text/html:<h5 class="elementor-heading-title elementor-size-default" style="caret-color: rgb(0\, 0\, 0)\; color: var( --e-global-color-text )\; font-family: var( --e-global-typography-c05b693-font-family )\, Sans-serif\; box-sizing: border-box\; margin: 0px\; line-height: var( --e-global-typography-c05b693-line-height )\; font-size: var( --e-global-typography-c05b693-font-size )\; padding: 0px\; text-align: center\;"><span style="color:#000000\;"><span style="font-size:20px\;"><span style="font-family:times new roman\;">The mission of The Hurdle Life Coach Foundation is to provide education\, motivation\, and inspiration to life-long learners of all ages and community members in all stages of their lives. The vision is a world where every person is seen\, supported and empowered. Our goal is to equip individuals\, families\, organizations and companies to transition from unknowing to awareness to positive contributor in their community and families.</span></span></span></h5>\n<br />\n<br />\n<span style="color:#000000\;"><span style="font-size:20px\;"><span style="font-family:times new roman\;"><strong>About Terry Liggins:</strong></span></span></span>\n\n<div class="elementor-element elementor-element-3a5cc5b9 elementor-widget elementor-widget-heading" data-element_type="widget" data-id="3a5cc5b9" data-widget_type="heading.default" style="font-size: 16px\; box-sizing: border-box\; --flex-direction: initial\; --flex-wrap: initial\; --justify-content: initial\; --align-items: initial\; --align-content: initial\; --gap: initial\; --flex-basis: initial\; --flex-grow: initial\; --flex-shrink: initial\; --order: initial\; --align-self: initial\; flex: var(--flex-grow) var(--flex-shrink) var(--flex-basis)\; order: var(--order)\; align-self: var(--align-self)\; flex-flow: var(--flex-direction) var(--flex-wrap)\; justify-content: var(--justify-content)\; align-items: var(--align-items)\; align-content: var(--align-content)\; gap: var(--gap)\; position: relative\; --swiper-theme-color: #000\; --swiper-navigation-size: 44px\; --swiper-pagination-bullet-size: 6px\; --swiper-pagination-bullet-horizontal-gap: 6px\; --widgets-spacing: 20px\; width: 515.75px\; margin-bottom: 5px\; font-family: -apple-system\, BlinkMacSystemFont\, &quot\;Segoe UI&quot\;\, Roboto\, &quot\;Helvetica Neue&quot\;\, Arial\, &quot\;Noto Sans&quot\;\, sans-serif\, &quot\;Apple Color Emoji&quot\;\, &quot\;Segoe UI Emoji&quot\;\, &quot\;Segoe UI Symbol&quot\;\, &quot\;Noto Color Emoji&quot\;\;">\n<div class="elementor-widget-container" style="box-sizing: border-box\; transition: background 0.3s\,border 0.3s\,border-radius 0.3s\,box-shadow 0.3s\,transform var(--e-transform-transition-duration\,0.4s)\;">\n<h2 class="elementor-heading-title elementor-size-default" style="box-sizing: border-box\; margin: 0px\; font-family: var( --e-global-typography-primary-font-family )\, Sans-serif\; line-height: var( --e-global-typography-primary-line-height )\; color: var( --e-global-color-primary )\; font-size: var( --e-global-typography-primary-font-size )\; padding: 0px\; text-transform: var( --e-global-typography-primary-text-transform )\; font-style: var( --e-global-typography-primary-font-style )\; text-decoration: var( --e-global-typography-primary-text-decoration )\; letter-spacing: var( --e-global-typography-primary-letter-spacing )\;"><span style="color:#000000\;"><span style="font-size:20px\;"><span style="font-family:times new roman\;">Terry Liggins</span></span></span></h2>\n</div>\n</div>\n\n<div class="elementor-element elementor-element-6153e49 elementor-widget elementor-widget-heading" data-element_type="widget" data-id="6153e49" data-widget_type="heading.default" style="font-size: 16px\; box-sizing: border-box\; --flex-direction: initial\; --flex-wrap: initial\; --justify-content: initial\; --align-items: initial\; --align-content: initial\; --gap: initial\; --flex-basis: initial\; --flex-grow: initial\; --flex-shrink: initial\; --order: initial\; --align-self: initial\; flex: var(--flex-grow) var(--flex-shrink) var(--flex-basis)\; order: var(--order)\; align-self: var(--align-self)\; flex-flow: var(--flex-direction) var(--flex-wrap)\; justify-content: var(--justify-content)\; align-items: var(--align-items)\; align-content: var(--align-content)\; gap: var(--gap)\; position: relative\; --swiper-theme-color: #000\; --swiper-navigation-size: 44px\; --swiper-pagination-bullet-size: 6px\; --swiper-pagination-bullet-horizontal-gap: 6px\; --widgets-spacing: 20px\; width: 515.75px\; margin-bottom: 5px\; font-family: -apple-system\, BlinkMacSystemFont\, &quot\;Segoe UI&quot\;\, Roboto\, &quot\;Helvetica Neue&quot\;\, Arial\, &quot\;Noto Sans&quot\;\, sans-serif\, &quot\;Apple Color Emoji&quot\;\, &quot\;Segoe UI Emoji&quot\;\, &quot\;Segoe UI Symbol&quot\;\, &quot\;Noto Color Emoji&quot\;\;">\n<div class="elementor-widget-container" style="box-sizing: border-box\; transition: background 0.3s\,border 0.3s\,border-radius 0.3s\,box-shadow 0.3s\,transform var(--e-transform-transition-duration\,0.4s)\;">\n<h5 class="elementor-heading-title elementor-size-default" style="box-sizing: border-box\; margin: 0px\; font-family: var( --e-global-typography-6558fb1-font-family )\, Sans-serif\; line-height: var( --e-global-typography-6558fb1-line-height )\; color: var( --e-global-color-text )\; font-size: var( --e-global-typography-6558fb1-font-size )\; padding: 0px\; text-transform: var( --e-global-typography-6558fb1-text-transform )\; font-style: var( --e-global-typography-6558fb1-font-style )\; text-decoration: var( --e-global-typography-6558fb1-text-decoration )\; letter-spacing: var( --e-global-typography-6558fb1-letter-spacing )\; word-spacing: var( --e-global-typography-6558fb1-word-spacing )\;"><span style="color:#000000\;"><span style="font-size:20px\;"><span style="font-family:times new roman\;">CEO\, TLC SERVICES</span></span></span></h5>\n</div>\n</div>\n\n<div class="elementor-element elementor-element-70e99a42 elementor-widget elementor-widget-text-editor" data-element_type="widget" data-id="70e99a42" data-widget_type="text-editor.default" style="caret-color: rgb(0\, 0\, 0)\; color: var( --e-global-color-text )\; font-family: var( --e-global-typography-text-font-family )\, Sans-serif\; font-size: 16px\; box-sizing: border-box\; --flex-direction: initial\; --flex-wrap: initial\; --justify-content: initial\; --align-items: initial\; --align-content: initial\; --gap: initial\; --flex-basis: initial\; --flex-grow: initial\; --flex-shrink: initial\; --order: initial\; --align-self: initial\; flex: var(--flex-grow) var(--flex-shrink) var(--flex-basis)\; order: var(--order)\; align-self: var(--align-self)\; flex-flow: var(--flex-direction) var(--flex-wrap)\; justify-content: var(--justify-content)\; align-items: var(--align-items)\; align-content: var(--align-content)\; gap: var(--gap)\; position: relative\; --swiper-theme-color: #000\; --swiper-navigation-size: 44px\; --swiper-pagination-bullet-size: 6px\; --swiper-pagination-bullet-horizontal-gap: 6px\; --widgets-spacing: 20px\; line-height: var( --e-global-typography-text-line-height )\; width: 515.75px\; margin-bottom: 5px\;">\n<div class="elementor-widget-container" style="box-sizing: border-box\; transition: background 0.3s\,border 0.3s\,border-radius 0.3s\,box-shadow 0.3s\,transform var(--e-transform-transition-duration\,0.4s)\; margin: 15.46875px 0px 0px\;">\n<p style="box-sizing: border-box\; margin-top: 0px\; margin-bottom: 0.9rem\;"><span style="color:#000000\;"><span style="font-size:20px\;"><span style="font-family:times new roman\;">Advocate for special populations\, at-risk youth\, adults in reentry\, people in recovery and young professionals. Believes leadership begins with role modeling and recognizes the sphere of influence every person possesses to be force for good. His Faith in God and people fuels his desire to be a helping hand in a world full of individuals\, families and communities in need.</span></span></span></p>\n</div>\n</div>\n
LOCATION:Farber Hall USD Campus
UID:e.2277.25478
SEQUENCE:3
DTSTAMP:20260425T135417Z
URL:https://chamber.livevermillion.com/events/details/the-hurdle-life-coach-with-terry-25478
END:VEVENT

END:VCALENDAR
