BEGIN:VCALENDAR
VERSION:2.0
PRODID:-//ChamberMaster//Event Calendar 2.0//EN
METHOD:PUBLISH
X-PUBLISHED-TTL:P3D
REFRESH-INTERVAL:P3D
CALSCALE:GREGORIAN
BEGIN:VEVENT
DTSTART:20241123T013000Z
DTEND:20241208T200000Z
X-MICROSOFT-CDO-ALLDAYEVENT:FALSE
SUMMARY:The Lightning Thief
DESCRIPTION:The Lightning Thief Book by Joe Tracz and Music & Lyrics by Rob Rokicki Adapted from the book The Lightning Thief by Rick Riordan Knutson Theatre\, Nov 22   24 and Dec 5   8\, 2024 In this whirlwind adventure\, Percy\, a misfit middle schooler with ADHD\, sets off on an epic adventure to retrieve Zeus's missing lightning bolt. We're bringing myths and monsters to life onstage in the Knutson Theatre in this lively musical adapted from Rick Riordan's bestselling novel. You won't want to miss it! Content Disclosure: Family Friendly!
X-ALT-DESC;FMTTYPE=text/html:The Lightning Thief Book by Joe Tracz and Music &amp\; Lyrics by Rob Rokicki Adapted from the book The Lightning Thief by Rick Riordan Knutson Theatre\, Nov 22 &ndash\; 24 and Dec 5 &ndash\; 8\, 2024 In this whirlwind adventure\, Percy\, a misfit middle schooler with ADHD\, sets off on an epic adventure to retrieve Zeus&rsquo\;s missing lightning bolt. We&rsquo\;re bringing myths and monsters to life onstage in the Knutson Theatre in this lively musical adapted from Rick Riordan&rsquo\;s bestselling novel. You won&rsquo\;t want to miss it! Content Disclosure: Family Friendly!
LOCATION:Warren M. Lee Center for Fine Arts 414 E. Clark St. Vermillion SD 57069
UID:e.2277.27559
SEQUENCE:3
DTSTAMP:20260426T043428Z
URL:https://chamber.livevermillion.com/events/details/the-lightning-thief-27559
END:VEVENT

END:VCALENDAR
