BEGIN:VCALENDAR
VERSION:2.0
PRODID:-//ChamberMaster//Event Calendar 2.0//EN
METHOD:PUBLISH
X-PUBLISHED-TTL:P3D
REFRESH-INTERVAL:P3D
CALSCALE:GREGORIAN
BEGIN:VEVENT
DTSTART:20230422T230000Z
DTEND:20230423T010000Z
X-MICROSOFT-CDO-ALLDAYEVENT:FALSE
SUMMARY:The Return of the Dolly Disco for Imagination Library!
DESCRIPTION:Roller skating! Snacks! The music Dolly Parton! Join in a family friendly fun-filled evening of roller skating {skates provided\, bring your own safety gear} and raising money for the Imagination Library which provides free books to kids 0-5 in our community! Suggested minimum donation of $5/person\, $15/family.
X-ALT-DESC;FMTTYPE=text/html:Roller skating! Snacks! The music Dolly Parton! Join in a family friendly fun-filled evening of roller skating {skates provided\, bring your own safety gear} and raising money for the Imagination Library which provides free books to kids 0-5 in our community! Suggested minimum donation of $5/person\, $15/family.
LOCATION:Vermillion National Guard Armory
UID:e.2277.25551
SEQUENCE:3
DTSTAMP:20260425T154442Z
URL:https://chamber.livevermillion.com/events/details/the-return-of-the-dolly-disco-for-imagination-library-25551
END:VEVENT

END:VCALENDAR
