BEGIN:VCALENDAR
VERSION:2.0
PRODID:-//ChamberMaster//Event Calendar 2.0//EN
METHOD:PUBLISH
X-PUBLISHED-TTL:P3D
REFRESH-INTERVAL:P3D
CALSCALE:GREGORIAN
BEGIN:VEVENT
DTSTART:20240815T223000Z
DTEND:20240816T010000Z
X-MICROSOFT-CDO-ALLDAYEVENT:FALSE
SUMMARY:Thursdays On The Platz: Barn Flies
DESCRIPTION:Head downtown for a summer of fun with our annual summer music series\, Thursdays on the Platz! Enjoy alt country from newcomers The Barn Flies\, a husband and wife duo from Madison\, SD. \n\nThere's no better place to be on a Thursday than at the Platz! Presented by Bluepeak Fiber Internet.\n\n\n\nWeekly Bands\n\n	July 11th - Wild Card\n	July 18th - Bluff Ridge Band\n	July 25th - Fine Mess\n	August 1st - 97 West\n	August 8th - Jetley Park at Clay County Fair\n	August 15th - Barn Flies \n	August 22nd - Blue Rune
X-ALT-DESC;FMTTYPE=text/html:<div class="xdj266r x11i5rnm xat24cr x1mh8g0r x1vvkbs" style="margin: 0px\; overflow-wrap: break-word\; font-family: &quot\;Segoe UI Historic&quot\;\, &quot\;Segoe UI&quot\;\, Helvetica\, Arial\, sans-serif\; color: rgb(5\, 5\, 5)\; font-size: 15px\;">\n<div class="xdj266r x11i5rnm xat24cr x1mh8g0r x1vvkbs" style="margin: 0px\; overflow-wrap: break-word\; font-family: &quot\;Segoe UI Historic&quot\;\, &quot\;Segoe UI&quot\;\, Helvetica\, Arial\, sans-serif\; color: rgb(5\, 5\, 5)\; font-size: 15px\;">\n<div class="xdj266r x11i5rnm xat24cr x1mh8g0r x1vvkbs" color:="" font-size:="" segoe="" style="margin: 0px\; overflow-wrap: break-word\;" ui="">Head downtown for a summer of fun with our annual summer music series\, Thursdays on the Platz!<span font-size:="" segoe="" ui="">&nbsp\;Enjoy alt country from newcomers&nbsp\;<strong>The Barn Flies</strong>\, a husband and wife duo from Madison\, SD.&nbsp\;</span></div>\n\n<div class="x11i5rnm xat24cr x1mh8g0r x1vvkbs xtlvy1s" color:="" font-size:="" segoe="" style="margin: 0.5em 0px 0px\; overflow-wrap: break-word\;" ui="">There&#39\;s no better place to be on a Thursday than at the Platz!&nbsp\;<span font-size:="" segoe="" ui="">P</span>resented by Bluepeak Fiber Internet.<br />\n<br />\nWeekly Bands\n<ul>\n	<li style="box-sizing: inherit\; margin: 0px\; padding: 0px\; border: 0px\; vertical-align: baseline\; text-align: unset\; outline: none !important\;">July 11th - Wild Card</li>\n	<li style="box-sizing: inherit\; margin: 0px\; padding: 0px\; border: 0px\; vertical-align: baseline\; text-align: unset\; outline: none !important\;">July 18th - Bluff Ridge Band</li>\n	<li style="box-sizing: inherit\; margin: 0px\; padding: 0px\; border: 0px\; vertical-align: baseline\; text-align: unset\; outline: none !important\;">July 25th - Fine Mess</li>\n	<li style="box-sizing: inherit\; margin: 0px\; padding: 0px\; border: 0px\; vertical-align: baseline\; text-align: unset\; outline: none !important\;">August 1st - 97 West</li>\n	<li style="box-sizing: inherit\; margin: 0px\; padding: 0px\; border: 0px\; vertical-align: baseline\; text-align: unset\; outline: none !important\;">August 8th - Jetley Park at Clay County Fair</li>\n	<li style="box-sizing: inherit\; margin: 0px\; padding: 0px\; border: 0px\; vertical-align: baseline\; text-align: unset\; outline: none !important\;">August 15th - Barn Flies&nbsp\;</li>\n	<li style="box-sizing: inherit\; margin: 0px\; padding: 0px\; border: 0px\; vertical-align: baseline\; text-align: unset\; outline: none !important\;">August 22nd - Blue Rune&nbsp\;</li>\n</ul>\n</div>\n</div>\n</div>\n\n<div class="x11i5rnm xat24cr x1mh8g0r x1vvkbs xtlvy1s" style="margin: 0.5em 0px 0px\; overflow-wrap: break-word\; font-family: &quot\;Segoe UI Historic&quot\;\, &quot\;Segoe UI&quot\;\, Helvetica\, Arial\, sans-serif\; color: rgb(5\, 5\, 5)\; font-size: 15px\;">&nbsp\;</div>\n
LOCATION:Ratingen Platz\, Downtown Vermillion
UID:e.2277.26907
SEQUENCE:3
DTSTAMP:20260425T215034Z
URL:https://chamber.livevermillion.com/events/details/thursdays-on-the-platz-barn-flies-26907
END:VEVENT

END:VCALENDAR
