BEGIN:VCALENDAR
VERSION:2.0
PRODID:-//ChamberMaster//Event Calendar 2.0//EN
METHOD:PUBLISH
X-PUBLISHED-TTL:P3D
REFRESH-INTERVAL:P3D
CALSCALE:GREGORIAN
BEGIN:VEVENT
DTSTART:20250724T223000Z
DTEND:20250725T010000Z
X-MICROSOFT-CDO-ALLDAYEVENT:FALSE
SUMMARY:Thursdays On The Platz - Blue Rune
DESCRIPTION:Come have the best Thursdays ever at Thursdays On The Platz\, Vermillion's favorite summer music series! Our third band of the season is Blue Rune\, Four professors with disparate backgrounds\, dubious priorities\, and a lot of amplification. Original music\, classic rock\, alt-country\, indie pop\, at least one rumba.\n\n\n\nPlus\, enjoy food from Karli's Kitchen\, CeeCee's\, Fayuca\, Hy-Vee as well as craft beer from XIX Brewing Company.\n\nBeer cards will be on sale for $50 (good for 10 beers\, plus one free beer when you turn in a completed card). Contact the chamber to preorder & skip the line!\n\n \n\nThanks as always to Presenting sponsor Bluepeak Fiber Internet\, Stage sponsor the National Music Museum and KidZone Sponsor Doc's!
X-ALT-DESC;FMTTYPE=text/html:<div class="xdj266r x11i5rnm xat24cr x1mh8g0r x1vvkbs" color:="" font-size:="" segoe="" style="margin: 0px\; overflow-wrap: break-word\; font-family: " ui="">\n<div class="xdj266r x14z9mp xat24cr x1lziwak x1vvkbs" style="margin: 0px\; overflow-wrap: break-word\; font-family: system-ui\, -apple-system\, &quot\;system-ui&quot\;\, &quot\;.SFNSText-Regular&quot\;\, sans-serif\; color: rgb(8\, 8\, 9)\; font-size: 15px\;">Come have the best Thursdays ever at Thursdays On The Platz\, Vermillion&rsquo\;s favorite summer music series! Our third band of the season is Blue Rune\, <span style="font-family: helvetica-w01-roman\, sans-serif\; font-size: 15px\; text-align: center\;">Four professors with disparate backgrounds\, dubious priorities\, and a lot of amplification. Original music\, classic rock\, alt-country\, indie pop\, at least one rumba.</span><br />\n<br />\nPlus\, enjoy food from Karli&#39\;s Kitchen\, CeeCee&#39\;s\, Fayuca\,&nbsp\;<span style="color: rgb(8\, 8\, 9)\; font-family: system-ui\, -apple-system\, &quot\;system-ui&quot\;\, &quot\;.SFNSText-Regular&quot\;\, sans-serif\; font-size: 15px\;">Hy-Vee</span> as well as craft beer from XIX Brewing Company.</div>\n\n<div class="x14z9mp xat24cr x1lziwak x1vvkbs xtlvy1s" style="margin: 0.5em 0px 0px\; overflow-wrap: break-word\; font-family: system-ui\, -apple-system\, &quot\;system-ui&quot\;\, &quot\;.SFNSText-Regular&quot\;\, sans-serif\; color: rgb(8\, 8\, 9)\; font-size: 15px\;">Beer cards will be on sale for $50 (good for 10 beers\, plus one free beer when you turn in a completed card). Contact the chamber to preorder &amp\; skip the line!<br />\n&nbsp\;</div>\n\n<div class="x14z9mp xat24cr x1lziwak x1vvkbs xtlvy1s" style="margin: 0.5em 0px 0px\; overflow-wrap: break-word\; font-family: system-ui\, -apple-system\, &quot\;system-ui&quot\;\, &quot\;.SFNSText-Regular&quot\;\, sans-serif\; color: rgb(8\, 8\, 9)\; font-size: 15px\;">Thanks as always to Presenting sponsor Bluepeak Fiber Internet\, Stage sponsor the National Music Museum and KidZone Sponsor Doc&#39\;s!</div>\n</div>\n
LOCATION:Ratingen Platz\, Downtown Vermillion
UID:e.2277.27798
SEQUENCE:3
DTSTAMP:20260425T125559Z
URL:https://chamber.livevermillion.com/events/details/thursdays-on-the-platz-blue-rune-07-24-2025-27798
END:VEVENT

END:VCALENDAR
