BEGIN:VCALENDAR
VERSION:2.0
PRODID:-//ChamberMaster//Event Calendar 2.0//EN
METHOD:PUBLISH
X-PUBLISHED-TTL:P3D
REFRESH-INTERVAL:P3D
CALSCALE:GREGORIAN
BEGIN:VEVENT
DTSTART:20250710T223000Z
DTEND:20250711T010000Z
X-MICROSOFT-CDO-ALLDAYEVENT:FALSE
SUMMARY:Thursdays On The Platz - Fine Mess
DESCRIPTION:Kickoff & Nonprofit night!\n\nCome have the best Thursdays ever at Thursdays On The Platz\, Vermillion's favorite summer music series! Our first band of the season is Fine Mess\, a three person indie rock band. Plus\, enjoy food from Karli's Kitchen\, CeeCee's\, Fayuca\, Nutrition Den\, Hy-Vee as well as craft beer from XIX Brewing Company.\n\n \n\nBeer cards will be on sale for $50 (good for 10 beers\, plus one free beer when you turn in a completed card). Contact the chamber to preorder & skip the line!\n\n \n\nThanks as always to Presenting sponsor Bluepeak Fiber Internet\, Stage sponsor the National Music Museum and KidZone Sponsor Doc's!\n\n\n\nTabling this week:\n\n\n	\n		\n	\n	\n		\n			Hello Ruby\n		\n		\n			United Way/CCC\n		\n		\n			Vermillion Cultural Association\n		\n		\n			Salvation Army\n		\n		\n			W H Over Museum\n		\n		\n			Resilient Church\n		\n		\n			Farmers Market\n		\n		\n			Vermillion Public Schools Foundation\n		\n		\n			Restore Grow Create
X-ALT-DESC;FMTTYPE=text/html:<div class="xdj266r x11i5rnm xat24cr x1mh8g0r x1vvkbs" color:="" font-size:="" segoe="" style="margin: 0px\; overflow-wrap: break-word\; font-family: " ui="">\n<div class="xdj266r x14z9mp xat24cr x1lziwak x1vvkbs" color:="" font-size:="" style="margin: 0px\; overflow-wrap: break-word\; font-family: system-ui\, -apple-system\, ">Kickoff &amp\; Nonprofit night!<br />\nCome have the best Thursdays ever at Thursdays On The Platz\, Vermillion&rsquo\;s favorite summer music series! Our first band of the season is Fine Mess\, a three person indie rock band. Plus\, enjoy food from Karli&#39\;s Kitchen\, CeeCee&#39\;s\, Fayuca\, Nutrition Den\, Hy-Vee as well as craft beer from XIX Brewing Company.<br />\n&nbsp\;</div>\n\n<div class="x14z9mp xat24cr x1lziwak x1vvkbs xtlvy1s" color:="" font-size:="" style="margin: 0.5em 0px 0px\; overflow-wrap: break-word\; font-family: system-ui\, -apple-system\, ">Beer cards will be on sale for $50 (good for 10 beers\, plus one free beer when you turn in a completed card). Contact the chamber to preorder &amp\; skip the line!<br />\n&nbsp\;</div>\n\n<div class="x14z9mp xat24cr x1lziwak x1vvkbs xtlvy1s" color:="" font-size:="" style="margin: 0.5em 0px 0px\; overflow-wrap: break-word\; font-family: system-ui\, -apple-system\, ">Thanks as always to Presenting sponsor Bluepeak Fiber Internet\, Stage sponsor the National Music Museum and KidZone Sponsor Doc&#39\;s!<br />\n<br />\nTabling this week:\n<div ccp_infra_copy_id="407551d7-40d4-415b-a25c-6d1999553daa" ccp_infra_timestamp="1750349785828" ccp_infra_user_hash="2598079302" ccp_infra_version="3" data-ccp-timestamp="1750349785828" style="color: rgb(0\, 0\, 0)\; font-size: medium\;">\n<table style="border-collapse: collapse\; width: 147pt\;" width="196">\n	<colgroup>\n		<col style="width: 147pt\;" width="196" />\n	</colgroup>\n	<tbody>\n		<tr height="20" style="height: 15pt\;">\n			<td aptos="" border:="" height="20" height:="" style="padding-top: 1px\; padding-right: 1px\; padding-left: 1px\; font-size: 11pt\; font-family: " text-wrap-mode:="" vertical-align:="" width="196" width:="">Hello Ruby</td>\n		</tr>\n		<tr height="20" style="height: 15pt\;">\n			<td aptos="" background:="" border:="" class="xl50" height="20" height:="" style="padding-top: 1px\; padding-right: 1px\; padding-left: 1px\; font-size: 11pt\; font-family: " text-wrap-mode:="" vertical-align:="">United Way/CCC</td>\n		</tr>\n		<tr height="20" style="height: 15pt\;">\n			<td aptos="" background:="" border:="" class="xl50" height="20" height:="" style="padding-top: 1px\; padding-right: 1px\; padding-left: 1px\; font-size: 11pt\; font-family: " text-wrap-mode:="" vertical-align:="">Vermillion Cultural Association</td>\n		</tr>\n		<tr height="20" style="height: 15pt\;">\n			<td aptos="" background:="" border:="" class="xl50" height="20" height:="" style="padding-top: 1px\; padding-right: 1px\; padding-left: 1px\; font-size: 11pt\; font-family: " text-wrap-mode:="" vertical-align:="">Salvation Army</td>\n		</tr>\n		<tr height="20" style="height: 15pt\;">\n			<td aptos="" background:="" border:="" class="xl50" height="20" height:="" style="padding-top: 1px\; padding-right: 1px\; padding-left: 1px\; font-size: 11pt\; font-family: " text-wrap-mode:="" vertical-align:="">W H Over Museum</td>\n		</tr>\n		<tr height="20" style="height: 15pt\;">\n			<td aptos="" background:="" border:="" class="xl50" height="20" height:="" style="padding-top: 1px\; padding-right: 1px\; padding-left: 1px\; font-size: 11pt\; font-family: " text-wrap-mode:="" vertical-align:="">Resilient Church</td>\n		</tr>\n		<tr height="20" style="height: 15pt\;">\n			<td aptos="" background:="" border:="" class="xl50" height="20" height:="" style="padding-top: 1px\; padding-right: 1px\; padding-left: 1px\; font-size: 11pt\; font-family: " text-wrap-mode:="" vertical-align:="">Farmers Market</td>\n		</tr>\n		<tr height="20" style="height: 15pt\;">\n			<td aptos="" border:="" height="20" height:="" style="padding-top: 1px\; padding-right: 1px\; padding-left: 1px\; font-size: 11pt\; font-family: " text-wrap-mode:="" vertical-align:="">Vermillion Public Schools Foundation</td>\n		</tr>\n		<tr>\n			<td aptos="" border:="" height="20" height:="" style="padding-top: 1px\; padding-right: 1px\; padding-left: 1px\; font-size: 11pt\; font-family: " text-wrap-mode:="" vertical-align:="">Restore Grow Create</td>\n		</tr>\n	</tbody>\n</table>\n</div>\n</div>\n</div>\n
LOCATION:Ratingen Platz\, Downtown Vermillion
UID:e.2277.27796
SEQUENCE:3
DTSTAMP:20260425T125603Z
URL:https://chamber.livevermillion.com/events/details/thursdays-on-the-platz-fine-mess-07-10-2025-27796
END:VEVENT

END:VCALENDAR
