BEGIN:VCALENDAR
VERSION:2.0
PRODID:-//ChamberMaster//Event Calendar 2.0//EN
METHOD:PUBLISH
X-PUBLISHED-TTL:P3D
REFRESH-INTERVAL:P3D
CALSCALE:GREGORIAN
BEGIN:VEVENT
DTSTART:20250717T223000Z
DTEND:20250718T010000Z
X-MICROSOFT-CDO-ALLDAYEVENT:FALSE
SUMMARY:Thursdays On The Platz - Wild Card
DESCRIPTION:Come have the best Thursdays ever at Thursdays On The Platz\, Vermillion's favorite summer music series! Our second band of the season is Wild Card\, a five person classic rock and country band. Plus\, enjoy food from Karli's Kitchen\, CeeCee's\, Fayuca\, Nutrition Den\, Hy-Vee as well as craft beer from XIX Brewing Company.\n\nBeer cards will be on sale for $50 (good for 10 beers\, plus one free beer when you turn in a completed card). Contact the chamber to preorder & skip the line!\n\n \n\nThanks as always to Presenting sponsor Bluepeak Fiber Internet\, Stage sponsor the National Music Museum and KidZone Sponsor Doc's!
X-ALT-DESC;FMTTYPE=text/html:<div class="xdj266r x11i5rnm xat24cr x1mh8g0r x1vvkbs" color:="" font-size:="" segoe="" style="margin: 0px\; overflow-wrap: break-word\; font-family: " ui="">\n<div class="xdj266r x14z9mp xat24cr x1lziwak x1vvkbs" style="margin: 0px\; overflow-wrap: break-word\; font-family: system-ui\, -apple-system\, &quot\;system-ui&quot\;\, &quot\;.SFNSText-Regular&quot\;\, sans-serif\; color: rgb(8\, 8\, 9)\; font-size: 15px\;">Come have the best Thursdays ever at Thursdays On The Platz\, Vermillion&rsquo\;s favorite summer music series! Our second band of the season is Wild Card\, a five person classic rock and country band. Plus\, enjoy food from Karli&#39\;s Kitchen\, CeeCee&#39\;s\, Fayuca\, Nutrition Den\, <span style="color: rgb(8\, 8\, 9)\; font-family: system-ui\, -apple-system\, &quot\;system-ui&quot\;\, &quot\;.SFNSText-Regular&quot\;\, sans-serif\; font-size: 15px\;">Hy-Vee&nbsp\;</span>as well as craft beer from XIX Brewing Company.</div>\n\n<div class="x14z9mp xat24cr x1lziwak x1vvkbs xtlvy1s" style="margin: 0.5em 0px 0px\; overflow-wrap: break-word\; font-family: system-ui\, -apple-system\, &quot\;system-ui&quot\;\, &quot\;.SFNSText-Regular&quot\;\, sans-serif\; color: rgb(8\, 8\, 9)\; font-size: 15px\;">Beer cards will be on sale for $50 (good for 10 beers\, plus one free beer when you turn in a completed card). Contact the chamber to preorder &amp\; skip the line!<br />\n&nbsp\;</div>\n\n<div class="x14z9mp xat24cr x1lziwak x1vvkbs xtlvy1s" style="margin: 0.5em 0px 0px\; overflow-wrap: break-word\; font-family: system-ui\, -apple-system\, &quot\;system-ui&quot\;\, &quot\;.SFNSText-Regular&quot\;\, sans-serif\; color: rgb(8\, 8\, 9)\; font-size: 15px\;">Thanks as always to Presenting sponsor Bluepeak Fiber Internet\, Stage sponsor the National Music Museum and KidZone Sponsor Doc&#39\;s!</div>\n</div>\n
LOCATION:Ratingen Platz\, Downtown Vermillion
UID:e.2277.27797
SEQUENCE:3
DTSTAMP:20260425T125559Z
URL:https://chamber.livevermillion.com/events/details/thursdays-on-the-platz-wild-card-07-17-2025-27797
END:VEVENT

END:VCALENDAR
