BEGIN:VCALENDAR
VERSION:2.0
PRODID:-//ChamberMaster//Event Calendar 2.0//EN
METHOD:PUBLISH
X-PUBLISHED-TTL:P3D
REFRESH-INTERVAL:P3D
CALSCALE:GREGORIAN
BEGIN:VEVENT
DTSTART:20220714T013000Z
DTEND:20220714T023000Z
X-MICROSOFT-CDO-ALLDAYEVENT:FALSE
SUMMARY:Up NEXT Coffee - Polaris Tour
DESCRIPTION:Join us for Up NEXT Coffee as we go on site to Polaris Industries\, Inc. for coffee and a tour!
X-ALT-DESC;FMTTYPE=text/html:Join us for Up NEXT Coffee as we go on site to Polaris Industries\, Inc. for coffee and a tour!&nbsp\;
LOCATION:Polaris Industries\, Inc. 1997 Polaris Parkway Vermillion\, SD 570690
UID:e.2277.24504
SEQUENCE:3
DTSTAMP:20260424T223342Z
URL:https://chamber.livevermillion.com/events/details/up-next-coffee-polaris-tour-24504
END:VEVENT

END:VCALENDAR
