BEGIN:VCALENDAR
VERSION:2.0
PRODID:-//ChamberMaster//Event Calendar 2.0//EN
METHOD:PUBLISH
X-PUBLISHED-TTL:P3D
REFRESH-INTERVAL:P3D
CALSCALE:GREGORIAN
BEGIN:VEVENT
DTSTART:20230719T200000Z
DTEND:20230719T210000Z
X-MICROSOFT-CDO-ALLDAYEVENT:FALSE
SUMMARY:USD Charlie's Bookstore Ribbon Cutting
DESCRIPTION:USD Charlie's Bookstore & Fan Shop downtown locations is hosting an expansion ribbon cutting on Wednesday\, July 19th from 3:00pm - 4:00pm. Stop in for refreshments and exclusive deals for official fan gear\, gifts and apparel.\n\n\n\n Ribbon cutting ceremony will take place at 3:15pm.
X-ALT-DESC;FMTTYPE=text/html:<span style="font-size:14px\;"><span style="font-family:arial\;">USD Charlie&#39\;s Bookstore &amp\; Fan Shop downtown locations is hosting an expansion ribbon cutting on <strong>Wednesday\, July 19th</strong> from 3:00pm - 4:00pm. Stop in for refreshments and exclusive deals for official fan gear\, gifts and apparel.<br />\n<br />\n<span style="color: rgb(45\, 41\, 38)\;">&#9986\;Ribbon cutting ceremony will take place at 3:15pm.&nbsp\;</span></span></span>
LOCATION:2 E Main Street\, 1st floor\, Vermillion
UID:e.2277.25765
SEQUENCE:3
DTSTAMP:20260425T231005Z
URL:https://chamber.livevermillion.com/events/details/usd-charlie-s-bookstore-ribbon-cutting-25765
END:VEVENT

END:VCALENDAR
