BEGIN:VCALENDAR
VERSION:2.0
PRODID:-//ChamberMaster//Event Calendar 2.0//EN
METHOD:PUBLISH
X-PUBLISHED-TTL:P3D
REFRESH-INTERVAL:P3D
CALSCALE:GREGORIAN
BEGIN:VEVENT
DTSTART:20230605T180000Z
DTEND:20230606T000000Z
X-MICROSOFT-CDO-ALLDAYEVENT:FALSE
SUMMARY:VCDC Annual Golf Classic 2023
DESCRIPTION:You won't want to miss the fun of our 2023 VCDC Annual Golf Social at the Bluffs Golf Course on Monday\, June 5th at 1:00 pm!\n\n\n\nThis year's golf event is themed - Caddyshack! The team with the best outfits will receive a prize this year. \nSo it's got that going for it\, which is nice.  \n\n\nThis is an opportunity for our attendees to get to know each other\, a chance for us to appreciate and interact with our members in person\, and a fundraising opportunity to help support the overall efforts of the Vermillion Area Chamber & Development Company.\n\n\n\nThere are many ways for you to participate in this great event. You can play 18 holes of golf\, promote your business by being a hole sponsor\, contribute by donating a pin prize or door prize\, and enjoy a summer day and network with your peers.\n\n\n\nPlease contact our staff at the VCDC office for more information or in help answering questions\, at 605.624.5571 or by emailing us at vcdc@vermillionchamber.com.\n\n\n\nDinner and awards will be immediately following the completion of golf.
X-ALT-DESC;FMTTYPE=text/html:<span style="color:#000000\;"><span style="font-size:20px\;"><span style="font-family:times new roman\;">You won&#39\;t want to miss the fun of our 2023 VCDC Annual Golf Social at the Bluffs Golf Course on <strong><u>Monday\, June 5th</u></strong> at 1:00 pm!<br />\n<br />\nThis year&#39\;s golf event is&nbsp\;<strong>themed -&nbsp\;</strong>Caddyshack! The team with the best outfits will receive a prize this year.&nbsp\;</span></span></span>\n<h1 class="headline" itemprop="headline" style="box-sizing: border-box\; font-size: 42px\; margin: 0px 100px 0px 0px\; font-family: &quot\;Barlow Condensed&quot\;\; line-height: 1.1\; color: rgb(32\, 71\, 28)\; caret-color: rgb(32\, 71\, 28)\;"><span style="font-size:20px\;"><span style="color:#ba0c2f\;"><span style="box-sizing: border-box\;">So it&#39\;s got that going for it\, which is nice. &#128521\;</span></span></span></h1>\n<br />\n<span style="color:#000000\;"><span style="font-size:20px\;"><span style="font-family:times new roman\;">This is an opportunity for our attendees to get to know each other\, a chance for us to appreciate and interact with our members in person\, and a fundraising opportunity to help support the overall efforts of the Vermillion Area Chamber &amp\; Development Company.<br style="color: rgb(51\, 51\, 51)\; font-family: sans-serif\, Arial\, Verdana\, &quot\;Trebuchet MS&quot\;\; font-size: 13px\;" />\n<br style="color: rgb(51\, 51\, 51)\; font-family: sans-serif\, Arial\, Verdana\, &quot\;Trebuchet MS&quot\;\; font-size: 13px\;" />\nThere are many ways for you to participate in this great event. You can play 18 holes of golf\, promote your business by being a hole sponsor\, contribute by donating a pin prize or door prize\, and enjoy a summer day and network with your peers.<br />\n<br />\nPlease contact our staff at the VCDC office for more information or in help answering questions\, at 605.624.5571 or by emailing us at vcdc@vermillionchamber.com.<br />\n<br />\nDinner and awards will be immediately following the completion of golf.&nbsp\;</span></span></span><br />\n&nbsp\;
LOCATION:The Bluffs Golf Course 2021 E. Main Street Vermillion\, SD 57069
UID:e.2277.25431
SEQUENCE:3
DTSTAMP:20260425T211523Z
URL:https://chamber.livevermillion.com/events/details/vcdc-annual-golf-classic-2023-25431
END:VEVENT

END:VCALENDAR
