BEGIN:VCALENDAR
VERSION:2.0
PRODID:-//ChamberMaster//Event Calendar 2.0//EN
METHOD:PUBLISH
X-PUBLISHED-TTL:P3D
REFRESH-INTERVAL:P3D
CALSCALE:GREGORIAN
BEGIN:VEVENT
DTSTART:20240514T163000Z
DTEND:20240514T173000Z
X-MICROSOFT-CDO-ALLDAYEVENT:FALSE
SUMMARY:VCDC School Board Forum
DESCRIPTION:Join us at Vermillion Public Library on Tuesday\, May 14th for the Vermillion School Board Forum! \n\nThe forum will begin at 11:30 am\, and will run for an hour.\n\n\n\nThank you to our sponsors\; \n\n\n	Maloney Real Estate\, CorTrust Bank\, Hy-Vee\, First Dakota National Bank\, BioMat Plasma Center\, University of South Dakota\, First Bank & Trust\, Sodexo\, Dakota Realty & Property Managment.
X-ALT-DESC;FMTTYPE=text/html:<div class="xdj266r x11i5rnm xat24cr x1mh8g0r x1vvkbs" style="margin: 0px\; word-wrap: break-word\; font-family: system-ui\, -apple-system\, BlinkMacSystemFont\, &quot\;.SFNSText-Regular&quot\;\, sans-serif\; caret-color: rgb(5\, 5\, 5)\; color: rgb(5\, 5\, 5)\; font-size: 15px\;"><span style="font-family:tahoma\;"><span style="font-size:20px\;">Join us at Vermillion Public Library on Tuesday\, May 14th for the Vermillion School Board Forum!&nbsp\;</span></span></div>\n\n<div class="x11i5rnm xat24cr x1mh8g0r x1vvkbs xtlvy1s" style="margin: 0.5em 0px 0px\; word-wrap: break-word\; font-family: system-ui\, -apple-system\, BlinkMacSystemFont\, &quot\;.SFNSText-Regular&quot\;\, sans-serif\; caret-color: rgb(5\, 5\, 5)\; color: rgb(5\, 5\, 5)\; font-size: 15px\;"><span style="font-family:tahoma\;"><span style="font-size:20px\;">The forum will begin at 11:30 am\, and will run for an hour.<br />\n<br />\n<span style="line-height: 14.98px\;">Thank you to our sponsors\;&nbsp\;</span></span></span>\n\n<ul>\n	<li><span style="font-family:tahoma\;"><span style="font-size:20px\;"><span style="line-height: 14.98px\;"><span style="background-image: initial\; background-position: initial\; background-size: initial\; background-repeat: initial\; background-attachment: initial\; background-origin: initial\; background-clip: initial\;">Maloney Real Estate\,&nbsp\;<span style="line-height: 14.98px\;"><span style="background-image: initial\; background-position: initial\; background-size: initial\; background-repeat: initial\; background-attachment: initial\; background-origin: initial\; background-clip: initial\;">CorTrust Bank\, H<span style="line-height: 14.98px\;"><span style="background-image: initial\; background-position: initial\; background-size: initial\; background-repeat: initial\; background-attachment: initial\; background-origin: initial\; background-clip: initial\;">y-Vee\, First Dakota National Bank\, BioMat Plasma Center\, University of South Dakota\, First Bank &amp\; Trust\, Sodexo\, Dakota Realty &amp\; Property Managment.&nbsp\;</span></span></span></span></span></span></span></span></li>\n</ul>\n</div>\n
LOCATION:Vermillion Public Library 18 Center Street Vermillion\, SD 57069
UID:e.2277.27367
SEQUENCE:3
DTSTAMP:20260425T125043Z
URL:https://chamber.livevermillion.com/events/details/vcdc-school-board-forum-27367
END:VEVENT

END:VCALENDAR
