BEGIN:VCALENDAR
VERSION:2.0
PRODID:-//ChamberMaster//Event Calendar 2.0//EN
METHOD:PUBLISH
X-PUBLISHED-TTL:P3D
REFRESH-INTERVAL:P3D
CALSCALE:GREGORIAN
BEGIN:VEVENT
DTSTART:20220525T133000Z
DTEND:20220525T143000Z
X-MICROSOFT-CDO-ALLDAYEVENT:FALSE
SUMMARY:VCDC Up NEXT Coffee Hour - School Board Candidates
DESCRIPTION:Join us on Wednesday\, May 25th at 8:30AM at McVicker to hear from the Vermillion School District\, School Board Candidates. If you can't join us in person\, join us on VCDC Facebook page or on Vermillion's local channel 3. \n\n\n\nThank you to our Up NEXT Sponsor\, Jon Cole - Farm Bureau Financial Services
X-ALT-DESC;FMTTYPE=text/html:Join us on Wednesday\, May 25th at 8:30AM at McVicker to hear from the Vermillion School District\, School Board Candidates.&nbsp\;If you can&#39\;t join us in person\, join us on&nbsp\;VCDC Facebook page or on Vermillion&#39\;s local channel 3.&nbsp\;<br />\n<br />\nThank you to our Up NEXT Sponsor\, Jon Cole - Farm Bureau Financial Services&nbsp\;
LOCATION:City Hall 25 Center Street Street Vermillion\, SD 57069
UID:e.2277.24467
SEQUENCE:3
DTSTAMP:20260424T190317Z
URL:https://chamber.livevermillion.com/events/details/vcdc-up-next-coffee-hour-school-board-candidates-24467
END:VEVENT

END:VCALENDAR
