BEGIN:VCALENDAR
VERSION:2.0
PRODID:-//ChamberMaster//Event Calendar 2.0//EN
METHOD:PUBLISH
X-PUBLISHED-TTL:P3D
REFRESH-INTERVAL:P3D
CALSCALE:GREGORIAN
BEGIN:VEVENT
DTSTART:20230314T220000Z
DTEND:20230315T010000Z
X-MICROSOFT-CDO-ALLDAYEVENT:FALSE
SUMMARY:Vermillion Community Clinic
DESCRIPTION:Free Student-Run Clinic by Sanford Vermillion.\n\n\n\nProviding healthcare for adults without health insurance. Services include treating acute health issues (fever\, sore throats\, colds\, minor injuries)\, chronic health issues (high blood pressure\, diabetes\, high cholesterol\, mental health)\, and providing preventative medicine (annual physicals\, vaccinations\, mammograms\, screenings\, prescriptions\, blood and urine laboratory testing\, radiographic imaging\, and more).
X-ALT-DESC;FMTTYPE=text/html:<span style="color:#000000\;"><span style="font-size:20px\;"><span style="font-family:times new roman\;">Free Student-Run Clinic by Sanford Vermillion.<br />\n<br />\nProviding healthcare for adults without health insurance. Services include treating acute health issues (fever\, sore throats\, colds\, minor injuries)\, chronic health issues (high blood pressure\, diabetes\, high cholesterol\, mental health)\, and providing preventative medicine (annual physicals\, vaccinations\, mammograms\, screenings\, prescriptions\, blood and urine laboratory testing\, radiographic imaging\, and more).</span></span></span>
LOCATION:20 S. Plum Street Vermillion\, SD
UID:e.2277.24662
SEQUENCE:3
DTSTAMP:20260425T135436Z
URL:https://chamber.livevermillion.com/events/details/vermillion-community-clinic-03-14-2023-24662
END:VEVENT

END:VCALENDAR
