BEGIN:VCALENDAR
VERSION:2.0
PRODID:-//ChamberMaster//Event Calendar 2.0//EN
METHOD:PUBLISH
X-PUBLISHED-TTL:P3D
REFRESH-INTERVAL:P3D
CALSCALE:GREGORIAN
BEGIN:VEVENT
DTSTART:20240505T180000Z
DTEND:20240505T200000Z
X-MICROSOFT-CDO-ALLDAYEVENT:FALSE
SUMMARY:Vermillion Community Theatre Auditions for Beauty and the Beast
DESCRIPTION:This ambitious VCT production features numerous roles for actors of all genders and ages\, provided they have completed kindergarten. Please arrive at auditions with: Completed Audition Sheet Completed Rehearsal Conflict Calendar Completed Photo Release and Waiver of Liability And ready to perform assigned selections from the musical! All forms and audition materials are available at vermillioncommunitytheatre.org Callbacks will be on May 8 at 6:00 p.m. at the Knutson Theatre in the Lee Fine Arts Center at USD.
X-ALT-DESC;FMTTYPE=text/html:This ambitious VCT production features numerous roles for actors of all genders and ages\, provided they have completed kindergarten. Please arrive at auditions with: Completed Audition Sheet Completed Rehearsal Conflict Calendar Completed Photo Release and Waiver of Liability And ready to perform assigned selections from the musical! All forms and audition materials are available at vermillioncommunitytheatre.org Callbacks will be on May 8 at 6:00 p.m. at the Knutson Theatre in the Lee Fine Arts Center at USD.
LOCATION:Thomas H. Craig Center for the Performing Arts
UID:e.2277.27365
SEQUENCE:3
DTSTAMP:20260425T130658Z
URL:https://chamber.livevermillion.com/events/details/vermillion-community-theatre-auditions-for-beauty-and-the-beast-27365
END:VEVENT

END:VCALENDAR
