BEGIN:VCALENDAR
VERSION:2.0
PRODID:-//ChamberMaster//Event Calendar 2.0//EN
METHOD:PUBLISH
X-PUBLISHED-TTL:P3D
REFRESH-INTERVAL:P3D
CALSCALE:GREGORIAN
BEGIN:VEVENT
DTSTART:20250323T170000Z
DTEND:20250324T000000Z
X-MICROSOFT-CDO-ALLDAYEVENT:FALSE
SUMMARY:Vermillion Eagles Club "Bar Triathlon"
DESCRIPTION:You and a partner will compete playing darts\, cornhole\, and putt putt in a charity event that offers prizes to the winners.\n\n\n\n$10/pp. Registration starts at noon and the puck drops at 1.
X-ALT-DESC;FMTTYPE=text/html:<span style="color: rgb(8\, 8\, 9)\; font-family: &quot\;Segoe UI Historic&quot\;\, &quot\;Segoe UI&quot\;\, Helvetica\, Arial\, sans-serif\; font-size: 15px\; background-color: rgb(255\, 255\, 255)\;">You and a partner will compete playing darts\, cornhole\, and putt putt in a charity event that offers prizes to the winners.<br />\n<br />\n$10/pp. Registration starts at noon and the puck drops at 1.</span>
LOCATION:Vermillion Eagles Club 114 W. Main St. Vermillion\, SD 57069
UID:e.2277.27882
SEQUENCE:3
DTSTAMP:20260425T215225Z
URL:https://chamber.livevermillion.com/events/details/vermillion-eagles-club-bar-triathlon-27882
END:VEVENT

END:VCALENDAR
