BEGIN:VCALENDAR
VERSION:2.0
PRODID:-//ChamberMaster//Event Calendar 2.0//EN
METHOD:PUBLISH
X-PUBLISHED-TTL:P3D
REFRESH-INTERVAL:P3D
CALSCALE:GREGORIAN
BEGIN:VEVENT
DTSTART:20241212T230000Z
DTEND:20241213T020000Z
X-MICROSOFT-CDO-ALLDAYEVENT:FALSE
SUMMARY:Vermillion Holiday Stroll
DESCRIPTION:Vermillion Holiday Stroll will be held on Thursday\, December 12th. Stroll Downtown Vermillion and Cherry Street for specials\, entertainment\, pop up shops. Get your holiday shopping done\, shop local! \n\n\n\nTo participate\, please reach out to raina@vermillionchamber.com
X-ALT-DESC;FMTTYPE=text/html:Vermillion Holiday Stroll will be held on Thursday\, December 12th. Stroll Downtown Vermillion and Cherry Street for specials\, entertainment\, pop up shops. Get your holiday shopping done\, shop local!&nbsp\;<br />\n<br />\nTo participate\, please reach out to raina@vermillionchamber.com
LOCATION:Vermillion SD
UID:e.2277.27564
SEQUENCE:3
DTSTAMP:20260426T014332Z
URL:https://chamber.livevermillion.com/events/details/vermillion-holiday-stroll-27564
END:VEVENT

END:VCALENDAR
