BEGIN:VCALENDAR
VERSION:2.0
PRODID:-//ChamberMaster//Event Calendar 2.0//EN
METHOD:PUBLISH
X-PUBLISHED-TTL:P3D
REFRESH-INTERVAL:P3D
CALSCALE:GREGORIAN
BEGIN:VEVENT
DTSTART:20240523T213000Z
DTEND:20240523T230000Z
X-MICROSOFT-CDO-ALLDAYEVENT:FALSE
SUMMARY:Vermillion Microchip Clinic
DESCRIPTION:This is a free will donation based event put on by Heartland Humane Society. We will be there to microchip your dogs and cats and to showcase different options of tagging for easy identification.
X-ALT-DESC;FMTTYPE=text/html:This is a free will donation based event put on by Heartland Humane Society. We will be there to microchip your dogs and cats and to showcase different options of tagging for easy identification.
LOCATION:4H Center 515 High St Vermillion
UID:e.2277.27382
SEQUENCE:3
DTSTAMP:20260425T125141Z
URL:https://chamber.livevermillion.com/events/details/vermillion-microchip-clinic-27382
END:VEVENT

END:VCALENDAR
