BEGIN:VCALENDAR
VERSION:2.0
PRODID:-//ChamberMaster//Event Calendar 2.0//EN
METHOD:PUBLISH
X-PUBLISHED-TTL:P3D
REFRESH-INTERVAL:P3D
CALSCALE:GREGORIAN
BEGIN:VEVENT
DTSTART:20250215T170000Z
DTEND:20250215T210000Z
X-MICROSOFT-CDO-ALLDAYEVENT:FALSE
SUMMARY:Vermillion Polar Plunge
DESCRIPTION:This year's theme is Hawaiian!\n\nPolar Plunges are a unique opportunity to show your bravery as you support Special Olympics South Dakota athletes by jumping into the frigid waters at Old Lumber Company.\n\nIndividuals and organizations raise money to support the more than 2\,750 athletes across the state.\n\nThis one-of-a-kind event is a fun atmosphere complete with music\, costumes\, and memories for everyone!\n\n \n\nSchedule\n\n\n	Registration  11:00 AM\n	Plunge  1:00 PM
X-ALT-DESC;FMTTYPE=text/html:<p class="x_MsoNormal" data-olk-copy-source="MessageBody" style="margin: 0in\; font-size: 11pt\; font-family: Aptos\, sans-serif\; color: rgb(36\, 36\, 36)\;">This year&rsquo\;s theme is Hawaiian!</p>\n\n<p class="x_MsoNormal" style="margin: 0in\; font-size: 11pt\; font-family: Aptos\, sans-serif\; color: rgb(36\, 36\, 36)\;">Polar Plunges are a unique opportunity to show your bravery as you support Special Olympics South Dakota athletes by jumping into the frigid waters at Old Lumber Company.</p>\n\n<p class="x_MsoNormal" style="margin: 0in\; font-size: 11pt\; font-family: Aptos\, sans-serif\; color: rgb(36\, 36\, 36)\;">Individuals and organizations raise money to support the more than 2\,750 athletes across the state.</p>\n\n<p class="x_MsoNormal" style="margin: 0in\; font-size: 11pt\; font-family: Aptos\, sans-serif\; color: rgb(36\, 36\, 36)\;">This one-of-a-kind event is a fun atmosphere complete with music\, costumes\, and memories for everyone!</p>\n\n<p aria-hidden="true" class="x_MsoNormal" style="margin: 0in\; font-size: 11pt\; font-family: Aptos\, sans-serif\; color: rgb(36\, 36\, 36)\;">&nbsp\;</p>\n\n<p class="x_MsoNormal" style="margin: 0in\; font-size: 11pt\; font-family: Aptos\, sans-serif\; color: rgb(36\, 36\, 36)\;"><b><u>Schedule</u></b></p>\n\n<ul style="margin-bottom: 0in\; color: rgb(36\, 36\, 36)\; font-family: &quot\;Segoe UI&quot\;\, &quot\;Segoe UI Web (West European)&quot\;\, -apple-system\, BlinkMacSystemFont\, Roboto\, &quot\;Helvetica Neue&quot\;\, sans-serif\; font-size: 15px\; margin-top: 0in\;" type="disc">\n	<li class="x_MsoNormal" style="margin: 0in\; font-size: 11pt\; font-family: Aptos\, sans-serif\;"><b>Registration&nbsp\;</b>&nbsp\;11:00 AM</li>\n	<li class="x_MsoNormal" style="margin: 0in\; font-size: 11pt\; font-family: Aptos\, sans-serif\;"><b>Plunge</b>&nbsp\; 1:00 PM</li>\n</ul>\n
LOCATION:Old Lumber Company
UID:e.2277.27809
SEQUENCE:3
DTSTAMP:20260426T043528Z
URL:https://chamber.livevermillion.com/events/details/vermillion-polar-plunge-27809
END:VEVENT

END:VCALENDAR
