BEGIN:VCALENDAR
VERSION:2.0
PRODID:-//ChamberMaster//Event Calendar 2.0//EN
METHOD:PUBLISH
X-PUBLISHED-TTL:P3D
REFRESH-INTERVAL:P3D
CALSCALE:GREGORIAN
BEGIN:VEVENT
DTSTART:20230509T000000Z
DTEND:20230509T020000Z
X-MICROSOFT-CDO-ALLDAYEVENT:FALSE
SUMMARY:Vermillion School Board Meeting
DESCRIPTION:Vermillion School Board Meetings happen every 2nd Monday of each month.
X-ALT-DESC;FMTTYPE=text/html:Vermillion School Board Meetings happen every 2nd Monday of each month.
LOCATION:Vermillion City Hall 25 Center St.
UID:e.2277.24103
SEQUENCE:3
DTSTAMP:20260425T175502Z
URL:https://chamber.livevermillion.com/events/details/vermillion-school-board-meeting-05-08-2023-24103
END:VEVENT

END:VCALENDAR
