BEGIN:VCALENDAR
VERSION:2.0
PRODID:-//ChamberMaster//Event Calendar 2.0//EN
METHOD:PUBLISH
X-PUBLISHED-TTL:P3D
REFRESH-INTERVAL:P3D
CALSCALE:GREGORIAN
BEGIN:VEVENT
DTSTART:20211214T010000Z
DTEND:20211214T030000Z
X-MICROSOFT-CDO-ALLDAYEVENT:FALSE
SUMMARY:Vermillion School Board Meeting
DESCRIPTION:Vermillion School Board Meetings happen every 2nd Monday of each month.
X-ALT-DESC;FMTTYPE=text/html:Vermillion School Board Meetings happen every 2nd Monday of each month.
LOCATION:Vermillion City Hall 25 Center St.
UID:e.2277.24086
SEQUENCE:3
DTSTAMP:20260424T114455Z
URL:https://chamber.livevermillion.com/events/details/vermillion-school-board-meeting-12-13-2021-24086
END:VEVENT

END:VCALENDAR
